BEGIN:VCALENDAR
VERSION:2.0
PRODID:-//40.70.12.89//NONSGML kigkonsult.se iCalcreator 2.26.9//
CALSCALE:GREGORIAN
METHOD:PUBLISH
X-FROM-URL:https://arizona.psr.org
X-WR-TIMEZONE:America/Phoenix
BEGIN:VTIMEZONE
TZID:America/Phoenix
X-LIC-LOCATION:America/Phoenix
BEGIN:STANDARD
DTSTART:19671029T020000
TZOFFSETFROM:-0600
TZOFFSETTO:-0700
TZNAME:MST
END:STANDARD
END:VTIMEZONE
BEGIN:VEVENT
UID:ai1ec-2250@arizona.psr.org
DTSTAMP:20210613T194846Z
CATEGORIES:
CONTACT:www.nukeresister.org\; 520-323-8697\; nukeresister@igc.org\; www.nu
 nspriestsbombsthefilm.com
DESCRIPTION:CELEBRATE 39 YEARS OF THE NUCLEAR RESISTER at the Arizona premi
 ere of:\nThe Nuns\, The Priests and The Bombs\nDirected by Helen Young\, t
 his 2018 documentary tells the story of two nuclear disarmament actions:\n
 the Disarm Now Plowshares (2009) and Transform Now Plowshares (2012).\nTIC
 KETS: $10 – $39 sliding scale\nADVANCE TICKET SALES INFO:\nThere are only 
 96 seats available for Screen 3 so get your seats SOON!!\nMail-in check de
 adline: October 8. Send a check for $10 – $39 per ticket (sliding scale)\,
  made payable and mailed to:\nThe Nuclear Resister\, PO Box 43383\, Tucson
 \, AZ 85733. Please include a phone number and the names of the people who
  will be attending. We’ll have your names on the guest list when you arriv
 e.\nAny remaining seats will be available at the box office the day of the
  film.THE NUCLEAR RESISTER\nThe first issue of the Nuclear Resister (NR) n
 ewsletter was published in October 1980 and coincidentally contained just 
 one action report: that of the Plowshares Eight\, the very first nuclear d
 isarmament action fulfilling the words of the prophet Isaiah “to beat swor
 ds into plowshares\, and spears into pruning hooks.” NR coordinators Jack 
 and Felice Cohen-Joppa have continued the work of reporting on nonviolent 
 resistance for a nuclear-free future since then – for the past 33 years fr
 om Tucson – with assistance from hundreds of people.\nThis event is a fund
 raiser to help with travel expenses to Georgia to attend the October 21 tr
 ial in federal court of the Kings Bay Plowshares (KBP). Jack and Felice ar
 e providing jail support for one of the KBP\, Fr. Steve Kelly SJ\, who has
  been in a Georgia county jail since the April 2018 action.\n \nAll donati
 ons welcome – thank you for your support!For more information:\n520-323-86
 97 – nukeresister@igc.org – www.nukeresister.org – nunspriestsbombsthefilm
 .com\nTuesday\, October 15\, 20197 p.m.at The Loft Cinema 3233 E. Speedway
  Tucson\, AZ\nThere will be a brief intro to the film and an opportunity f
 or discussion afterwards.
DTSTART;TZID=America/Phoenix:20191015T190000
LOCATION:The Loft\, Tucson @ 3233 E. Speedway\, Tucson\, AZ
SEQUENCE:0
SUMMARY:Film: The Nuns\, The Priests and The Bombs
URL:https://arizona.psr.org/event/2250/
X-COST-TYPE:external
X-ALT-DESC;FMTTYPE=text/html:<!DOCTYPE HTML PUBLIC '-//W3C//DTD HTML 3.2//E
 N'>\\n<HTML>\\n<HEAD>\\n<TITLE></TITLE>\\n</HEAD>\\n<BODY><input class='fo
 oboxshare_post_id' type='hidden' value='1471'/><p>CELEBRATE 39 YEARS OF TH
 E NUCLEAR RESISTER at the Arizona premiere of:</p>\n<p>The Nuns\, The Prie
 sts and The Bombs</p>\n<p>Directed by Helen Young\, this 2018 documentary 
 tells the story of two nuclear disarmament actions:<br />\nthe Disarm Now 
 Plowshares (2009) and Transform Now Plowshares (2012).</p>\n<p>TICKETS: $1
 0 – $39 sliding scale</p>\n<p>ADVANCE TICKET SALES INFO:<br />\nThere are 
 only 96 seats available for Screen 3 so get your seats SOON!!</p>\n<p>Mail
 -in check deadline: October 8. Send a check for $10 – $39 per ticket (slid
 ing scale)\, made payable and mailed to:</p>\n<p>The Nuclear Resister\, PO
  Box 43383\, Tucson\, AZ 85733. Please include a phone number and the name
 s of the people who will be attending. We’ll have your names on the guest 
 list when you arrive.</p>\n<p>Any remaining seats will be available at the
  box office the day of the film.THE NUCLEAR RESISTER</p>\n<p>The first iss
 ue of the Nuclear Resister (NR) newsletter was published in October 1980 a
 nd coincidentally contained just one action report: that of the Plowshares
  Eight\, the very first nuclear disarmament action fulfilling the words of
  the prophet Isaiah “to beat swords into plowshares\, and spears into prun
 ing hooks.” NR coordinators Jack and Felice Cohen-Joppa have continued the
  work of reporting on nonviolent resistance for a nuclear-free future sinc
 e then – for the past 33 years from Tucson – with assistance from hundreds
  of people.</p>\n<p>This event is a fundraiser to help with travel expense
 s to Georgia to attend the October 21 trial in federal court of the Kings 
 Bay Plowshares (KBP). Jack and Felice are providing jail support for one o
 f the KBP\, Fr. Steve Kelly SJ\, who has been in a Georgia county jail sin
 ce the April 2018 action.</p>\n<p> </p>\n<p>All donations welcome – thank 
 you for your support!For more information:</p>\n<p>520-323-8697 – nukeresi
 ster@igc.org – www.nukeresister.org – nunspriestsbombsthefilm.com</p>\n<p>
 Tuesday\, October 15\, 20197 p.m.at The Loft Cinema 3233 E. Speedway Tucso
 n\, AZ<br />\nThere will be a brief intro to the film and an opportunity f
 or discussion afterwards.</p>\n</BODY></HTML>
X-TAGS;LANGUAGE=en-US:event\,film\,nuclear weapons
X-COST:10-39
X-INSTANT-EVENT:1
END:VEVENT
END:VCALENDAR
